BEGIN:VCALENDAR
VERSION:2.0
PRODID:-//wp-events-plugin.com//7.2.3.1//EN
TZID:America/Los_Angeles
X-WR-TIMEZONE:America/Los_Angeles
BEGIN:VEVENT
UID:63370@marinaracquetclub.com
DTSTART;TZID=America/Los_Angeles:20260426T110000
DTEND;TZID=America/Los_Angeles:20260426T130000
DTSTAMP:20260403T155009Z
URL:https://marinaracquetclub.com/events/spring-marinaball-doubles-tournam
 ent-3-0/
SUMMARY:Spring MarinaBall Doubles Tournament 3.0
DESCRIPTION:MRC SPRING MARINABALL DOUBLES TOURNAMENT!\n\n 	11:00am-1:00pm -
  3.0 - 3.25 Group\n 	Teams of 2 players. Pick 1 player to partner with. Ma
 le or female.\n 	Tourney is based on total points earned over multiple mat
 ches. Each MarinaBall game is to 30 points.\n 	Teams will have minimum 4 m
 atches during tourney.\n 	MRC Commish reserves right to negate ringer tea
 ms\n 	Food\, drinks\, and prizes as usual and “Top Dog” awards handed 
 out to all finalists.\n
CATEGORIES:Single Events
LOCATION:The Ritz-Carlton\, Marina del Rey\, 4375 Admiralty Way\, Marina de
 l Rey\, California\, 90292\, United States
X-APPLE-STRUCTURED-LOCATION;VALUE=URI;X-ADDRESS=4375 Admiralty Way\, Marina
  del Rey\, California\, 90292\, United States;X-APPLE-RADIUS=100;X-TITLE=T
 he Ritz-Carlton\, Marina del Rey:geo:0,0
END:VEVENT
BEGIN:VTIMEZONE
TZID:America/Los_Angeles
X-LIC-LOCATION:America/Los_Angeles
BEGIN:DAYLIGHT
DTSTART:20260308T030000
TZOFFSETFROM:-0800
TZOFFSETTO:-0700
TZNAME:PDT
END:DAYLIGHT
END:VTIMEZONE
END:VCALENDAR